BEGIN:VCALENDAR
VERSION:2.0
PRODID:-//hacksw/handcal//NONSGML v1.0//EN
BEGIN:VEVENT
SUMMARY:Departementaux cadets et +
UID:0d0fb504-3a2c-4567-9837-446cc80a4ea8
DTSTART:20260508T220000Z
DTEND:20260509T220000Z
LOCATION:Localisation avenue Aristide Berges 09200 St Grions
CATEGORIES:Sportif
STATUS:
URL;VALUE=URI:https://www.ea-paysdefoix.com/evenements/2026/05/09/departementaux-cadets-et-2443590
END:VEVENT
END:VCALENDAR
